BEGIN:VCALENDAR
VERSION:2.0
PRODID:-//The Plumeria Society of America, Inc. - ECPv6.15.18//NONSGML v1.0//EN
CALSCALE:GREGORIAN
METHOD:PUBLISH
X-ORIGINAL-URL:https://theplumeriasociety.org
X-WR-CALDESC:Events for The Plumeria Society of America, Inc.
REFRESH-INTERVAL;VALUE=DURATION:PT1H
X-Robots-Tag:noindex
X-PUBLISHED-TTL:PT1H
BEGIN:VTIMEZONE
TZID:UTC
BEGIN:STANDARD
TZOFFSETFROM:+0000
TZOFFSETTO:+0000
TZNAME:UTC
DTSTART:20240101T000000
END:STANDARD
END:VTIMEZONE
BEGIN:VEVENT
DTSTART;TZID=UTC:20250727T140000
DTEND;TZID=UTC:20250727T160000
DTSTAMP:20260421T102854
CREATED:20241227T201943Z
LAST-MODIFIED:20250217T210159Z
UID:3862-1753624800-1753632000@theplumeriasociety.org
SUMMARY:PSA General Meeting
DESCRIPTION:More info coming!
URL:https://theplumeriasociety.org/event/psa-general-meeting-3/
LOCATION:Bay Area Community Center\, 5002 NASA Parkway\, Seabrook\, TX\, 77586\, United States
CATEGORIES:PSA Events
ATTACH;FMTTYPE=image/jpeg:https://theplumeriasociety.org/plumeria/wp-content/uploads/2024/12/441575208_10231731071922328_9129043575106210787_n-Edited-1.jpg
END:VEVENT
END:VCALENDAR